BEGIN:VCALENDAR
VERSION:2.0
PRODID:-//Instituto Universitario Bolivariano
CALSCALE:GREGORIAN
METHOD:PUBLISH
X-WR-CALNAME:Instituto Universitario Bolivariano
X-ORIGINAL-URL:https://tbolivariano.edu.ec/evento/itsb-dicta-curso-de-cocina-ecuatoriana/
X-WR-CALDESC:ITSB DICTA CURSO DE COCINA ECUATORIANA
BEGIN:VEVENT
DTSTART:20190618T000000
DTEND:20190718T000000
SUMMARY:ITSB DICTA CURSO DE COCINA ECUATORIANA
DESCRIPTION:La gastronomía ecuatoriana, se caracteriza por su variada forma de preparar comidas y bebidas. Dentro de ello se puede encontrar cuatro regiones: costa, sierra, oriente y región insular, con sus respectivas costumbres y tradiciones.
LOCATION:
END:VEVENT
END:VCALENDAR
