BEGIN:VCALENDAR
VERSION:2.0
PRODID:-//Instituto Universitario Bolivariano
CALSCALE:GREGORIAN
METHOD:PUBLISH
X-WR-CALNAME:Instituto Universitario Bolivariano
X-ORIGINAL-URL:https://tbolivariano.edu.ec/evento/istb-promueve-curso-practivo-de-excel/
X-WR-CALDESC:ISTB PROMUEVE CURSO PRÁCTICO DE EXCEL
BEGIN:VEVENT
DTSTART:
DTEND:
SUMMARY:ISTB PROMUEVE CURSO PRÁCTICO DE EXCEL
DESCRIPTION:El Instituto Superior Tecnológico Bolivariano, conforme a su planificación académica, desde el lunes 15 de julio desarrollará el curso intensivo práctico de manejo de la herramienta Excel de la suite Microsoft Office, donde se conocerá su operatividad, manejo de información y las tareas del programa para su aplicación en entornos laborales y académicos.
LOCATION:
END:VEVENT
END:VCALENDAR
