BEGIN:VCALENDAR
VERSION:2.0
PRODID:-//Instituto Universitario Bolivariano
CALSCALE:GREGORIAN
METHOD:PUBLISH
X-WR-CALNAME:Instituto Universitario Bolivariano
X-ORIGINAL-URL:https://tbolivariano.edu.ec/evento/nuevos-profesionales-de-enfermeria-del-bolivariano-reciben-sus-insignias/
X-WR-CALDESC:Nuevos profesionales de Enfermería</br>del Bolivariano reciben sus insignias
BEGIN:VEVENT
DTSTART:20230823T100000
DTEND:20230823T110000
SUMMARY:Nuevos profesionales de Enfermería</br>del Bolivariano reciben sus insignias
DESCRIPTION:La entrega se realizará ante la presencia de familiares de los egresados; mientras que las Autoridades del sector público y privado de salud participarán del acto organizado por la Dirección de Gestión y Planificación del Universitario Bolivariano.
LOCATION:
END:VEVENT
END:VCALENDAR
