BEGIN:VCALENDAR
VERSION:2.0
PRODID:-//Instituto Universitario Bolivariano
CALSCALE:GREGORIAN
METHOD:PUBLISH
X-WR-CALNAME:Instituto Universitario Bolivariano
X-ORIGINAL-URL:https://tbolivariano.edu.ec/evento/universitario-bolivariano-y-el-gad-de-cumbaratzaorganizan-i-feria-interparroquial-de-gastronomia/
X-WR-CALDESC:Universitario Bolivariano y el GAD de Cumbaratza</br>organizan I Feria Interparroquial de Gastronomía
BEGIN:VEVENT
DTSTART:20231021T100000
DTEND:20231021T150000
SUMMARY:Universitario Bolivariano y el GAD de Cumbaratza</br>organizan I Feria Interparroquial de Gastronomía
DESCRIPTION:La cita será el 21 de octubre con la participación de al menos diez parroquias de Zamora Chinchipe. La exhibición de platos tradicionales y contemporáneos coincide con la clausura del programa “Cumbaratza Aprende y Emprende” con el Bolivariano.
LOCATION:
END:VEVENT
END:VCALENDAR
